BEGIN:VCALENDAR
VERSION:2.0
PRODID:-//Tukios.com/
BEGIN:VEVENT
UID:80a1803e-7267-41df-966c-be3cf70f69af@www.jonesfuneral.com
DTSTAMP:20260425T201825Z
DTSTART:20260430T160000Z
DTEND:20260430T170000Z
SUMMARY:Memorial Service
DESCRIPTION:
URL:https://www.jonesfuneral.com/obituaries/glen-westphal
LOCATION: 107 S Franklin St  Oconto Falls WI 54154
GEO:44.8742068;-88.14171
END:VEVENT
END:VCALENDAR