BEGIN:VCALENDAR
VERSION:2.0
PRODID:-//Tukios.com/
BEGIN:VEVENT
UID:176f9a79-6372-42d2-8124-a046a322bbd0@www.jonesfuneral.com
DTSTAMP:20260425T201825Z
DTSTART:20260430T150000Z
DTEND:20260430T160000Z
SUMMARY:Visitation
DESCRIPTION:
URL:https://www.jonesfuneral.com/obituaries/glen-westphal
LOCATION: 107 S Franklin St  Oconto Falls WI 54154
GEO:44.8742068;-88.14171
END:VEVENT
END:VCALENDAR